BEGIN:VCALENDAR
VERSION:2.0
PRODID:DPCALENDAR
CALSCALE:GREGORIAN
BEGIN:VTIMEZONE
TZID:America/New_York
X-MICROSOFT-CDO-TZID:10
BEGIN:STANDARD
DTSTART:20251102T060000
TZOFFSETFROM:-0400
TZOFFSETTO:-0500
TZNAME:EST
END:STANDARD
BEGIN:STANDARD
DTSTART:20261101T060000
TZOFFSETFROM:-0400
TZOFFSETTO:-0500
TZNAME:EST
END:STANDARD
BEGIN:DAYLIGHT
DTSTART:20260308T070000
TZOFFSETFROM:-0500
TZOFFSETTO:-0400
TZNAME:EDT
END:DAYLIGHT
END:VTIMEZONE
X-WR-TIMEZONE:America/New_York
BEGIN:VEVENT
DTSTART;TZID=America/New_York:20211215T163000
DTEND;TZID=America/New_York:20211215T183000
UID:BE465FAD-F9E4-4816-A637-9500381A8779
SUMMARY:Board of Health Meeting
CREATED:20211209T142108Z
DTSTAMP:20211209T142108Z
URL:https://wclnj.com/resident/calendar/board-of-health-meeting
DESCRIPTION:12-15-2021 Board of Health Agenda\NJoin Zoom Meeting: https://us02web.zoom.us/j/89316879464?pwd=YXRoc2Fqc1liMXhIaWVHT2xrNDQyQT09 \NMeeting ID: 893 1687 9464 Passcode: 503453 \NOne tap mobile +13126266799,,89316879464# US (Chicago) +16465588656,,89316879464# US (New York) \NDial by your location +1 312 626 6799 US (Chicago) +1 646 558 8656 US (New York) +1 301 715 8592 US (Washington DC) +1 346 248 7799 US (Houston) +1 669 900 9128 US (San Jose) +1 253 215 8782 US (Tacoma) \NMeeting ID: 893 1687 9464 \NFind your local number: https://us02web.zoom.us/u/k1UuPxGDl 
X-ALT-DESC;FMTTYPE=text/html:<p><a class="doclink" href="index.php?option=com_docman&amp;view=document&amp;alias=592-12-15-2021-board-of-health-agenda&amp;category_slug=2021-agendas-board-of-health&amp;Itemid=992" target="_blank" rel="noopener noreferrer">12-15-2021 Board of Health Agenda</a></p><p class="p1">Join Zoom Meeting: https://us02web.zoom.us/j/89316879464?pwd=YXRoc2Fqc1liMXhIaWVHT2xrNDQyQT09<span class="Apple-converted-space"> </span></p><p class="p2">Meeting ID: 893 1687 9464<span class="Apple-converted-space"> <br /></span>Passcode: 503453<span class="Apple-converted-space"> </span></p><p class="p2">One tap mobile<span class="Apple-converted-space"> <br /></span>+13126266799,,89316879464# US (Chicago)<span class="Apple-converted-space"> <br /></span>+16465588656,,89316879464# US (New York)<span class="Apple-converted-space"> </span></p><p class="p2">Dial by your location<span class="Apple-converted-space"> <br /></span>+1 312 626 6799 US (Chicago)<span class="Apple-converted-space"> <br /></span>+1 646 558 8656 US (New York)<span class="Apple-converted-space"> <br /></span>+1 301 715 8592 US (Washington DC)<span class="Apple-converted-space"> <br /></span>+1 346 248 7799 US (Houston)<span class="Apple-converted-space"> <br /></span>+1 669 900 9128 US (San Jose)<span class="Apple-converted-space"> <br /></span>+1 253 215 8782 US (Tacoma)<span class="Apple-converted-space"> </span></p><p class="p2">Meeting ID: 893 1687 9464<span class="Apple-converted-space"> </span></p><p class="p3"><span class="s2">Find your local number: </span>https://us02web.zoom.us/u/k1UuPxGDl<span class="Apple-converted-space"> </span></p>
X-ACCESS:1
X-HITS:215
X-COLOR:3366CC
X-SHOW-END-TIME:0
END:VEVENT
BEGIN:VEVENT
DTSTART;TZID=America/New_York:20220419T170000
DTEND;TZID=America/New_York:20220419T180000
UID:A7C8362F-8464-45FB-8FAF-A79193118CBE
SUMMARY:Board of Health Meeting
CREATED:20220414T160503Z
DTSTAMP:20220414T160503Z
URL:https://wclnj.com/resident/calendar/board-of-health-meeting-2
DESCRIPTION:04-19-2022 Board of Health Agenda\NJoin Zoom Meeting \Nhttps://us02web.zoom.us/j/89550248430?pwd=V3lSWGttd2V4OTc5OEM4RTd2eC9CQT09 \NMeeting ID: 895 5024 8430 \NPasscode: 580423 \NOne tap mobile \N+13017158592,,89550248430# US (Washington DC) \N+13126266799,,89550248430# US (Chicago) \NDial by your location \N+1 301 715 8592 US (Washington DC) \N+1 312 626 6799 US (Chicago) \N+1 646 558 8656 US (New York) \N+1 253 215 8782 US (Tacoma) \N+1 346 248 7799 US (Houston) \N+1 669 900 9128 US (San Jose) \NMeeting ID: 895 5024 8430 \NFind your local number: https://us02web.zoom.us/u/kvuC5Da5U 
X-ALT-DESC;FMTTYPE=text/html:<p><a class="doclink" href="index.php?option=com_docman&amp;view=document&amp;alias=656-04-19-2022-board-of-health-agenda&amp;category_slug=2022-agendas-board-of-health&amp;Itemid=992" target="_blank" rel="noopener noreferrer">04-19-2022 Board of Health Agenda</a></p><p class="p1">Join Zoom Meeting<span class="Apple-converted-space"> </span></p><p class="p3"><a href="https://us02web.zoom.us/j/89550248430?pwd=V3lSWGttd2V4OTc5OEM4RTd2eC9CQT09%20" target="_blank" rel="noopener noreferrer">https://us02web.zoom.us/j/89550248430?pwd=V3lSWGttd2V4OTc5OEM4RTd2eC9CQT09<span class="Apple-converted-space"> </span></a></p><p class="p2">Meeting ID: 895 5024 8430<span class="Apple-converted-space"> </span></p><p class="p2">Passcode: 580423<span class="Apple-converted-space"> </span></p><p class="p2">One tap mobile<span class="Apple-converted-space"> </span></p><p class="p2">+13017158592,,89550248430# US (Washington DC)<span class="Apple-converted-space"> </span></p><p class="p2">+13126266799,,89550248430# US (Chicago)<span class="Apple-converted-space"> </span></p><p class="p2">Dial by your location<span class="Apple-converted-space"> </span></p><p class="p2">+1 301 715 8592 US (Washington DC)<span class="Apple-converted-space"> </span></p><p class="p2">+1 312 626 6799 US (Chicago)<span class="Apple-converted-space"> </span></p><p class="p2">+1 646 558 8656 US (New York)<span class="Apple-converted-space"> </span></p><p class="p2">+1 253 215 8782 US (Tacoma)<span class="Apple-converted-space"> </span></p><p class="p2">+1 346 248 7799 US (Houston)<span class="Apple-converted-space"> </span></p><p class="p2">+1 669 900 9128 US (San Jose)<span class="Apple-converted-space"> </span></p><p class="p2">Meeting ID: 895 5024 8430<span class="Apple-converted-space"> </span></p><p class="p3"><span class="s2">Find your local number: </span><a href="https://us02web.zoom.us/u/kvuC5Da5U%20" target="_blank" rel="noopener noreferrer">https://us02web.zoom.us/u/kvuC5Da5U<span class="Apple-converted-space"> </span></a></p>
X-ACCESS:1
X-HITS:191
X-COLOR:3366CC
X-SHOW-END-TIME:0
END:VEVENT
BEGIN:VEVENT
DTSTART;TZID=America/New_York:20220906T163000
DTEND;TZID=America/New_York:20220906T173000
UID:549C71C4-6B0C-4549-914F-1F39EEFBBDCF
SUMMARY:Board of Health Meeting
CREATED:20220909T160612Z
DTSTAMP:20220909T160612Z
URL:https://wclnj.com/resident/calendar/board-of-health-meeting-3
DESCRIPTION:09-13-2022 Board of Health Agenda
X-ALT-DESC;FMTTYPE=text/html:<p><a class="doclink" href="index.php?option=com_docman&amp;view=document&amp;alias=708-09-13-2022-board-of-health-agenda&amp;category_slug=2022-agendas-board-of-health&amp;Itemid=992" target="_blank" rel="noopener noreferrer">09-13-2022 Board of Health Agenda</a></p>
X-ACCESS:1
X-HITS:100
X-COLOR:3366CC
X-SHOW-END-TIME:0
END:VEVENT
BEGIN:VEVENT
DTSTART;TZID=America/New_York:20221206T163000
DTEND;TZID=America/New_York:20221206T173000
UID:15C5870B-5744-4C12-A522-E48BA2137F02
SUMMARY:Board of Health Meeting
CREATED:20221201T163927Z
DTSTAMP:20221201T163927Z
URL:https://wclnj.com/resident/calendar/board-of-health-meeting-4
DESCRIPTION:12-06-2022 Board of Health Agenda
X-ALT-DESC;FMTTYPE=text/html:<p><a class="doclink" href="index.php?option=com_docman&amp;view=document&amp;alias=732-12-06-2022-board-of-health-agenda&amp;category_slug=2022-agendas-board-of-health&amp;Itemid=992" target="_blank">12-06-2022 Board of Health Agenda</a></p>
X-ACCESS:1
X-HITS:176
X-COLOR:3366CC
X-SHOW-END-TIME:0
END:VEVENT
BEGIN:VEVENT
DTSTART;TZID=America/New_York:20230328T163000
DTEND;TZID=America/New_York:20230328T183000
UID:84CF6A47-D1E0-46CD-BA88-8A5690E143C6
SUMMARY:Board of Health Meeting
CREATED:20230323T142607Z
DTSTAMP:20230323T142607Z
URL:https://wclnj.com/resident/calendar/board-of-health-meeting-5
DESCRIPTION:03-28-2023 Board of Health Agenda
X-ALT-DESC;FMTTYPE=text/html:<p><a class="doclink" href="index.php?option=com_docman&amp;view=document&amp;alias=775-03-28-2023-board-of-health-agenda&amp;category_slug=2023-agendas-board-of-health&amp;Itemid=992" target="_blank">03-28-2023 Board of Health Agenda</a></p>
X-ACCESS:1
X-HITS:165
X-COLOR:3366CC
X-SHOW-END-TIME:0
END:VEVENT
BEGIN:VEVENT
DTSTART;TZID=America/New_York:20230912T160000
DTEND;TZID=America/New_York:20230912T170000
UID:EEFD0D3B-4407-48B3-8A1C-538720666FF3
SUMMARY:Board of Health Meeting
CREATED:20230913T180115Z
DTSTAMP:20230913T180115Z
URL:https://wclnj.com/resident/calendar/board-of-health-meeting-6
DESCRIPTION:09-12-2023 Board of Health Agenda
X-ALT-DESC;FMTTYPE=text/html:<p><a class="doclink" href="index.php?option=com_docman&amp;view=document&amp;alias=840-09-12-2023-board-of-health-agenda&amp;category_slug=2023-agendas-board-of-health&amp;Itemid=992" target="_blank">09-12-2023 Board of Health Agenda</a></p>
X-ACCESS:1
X-HITS:45
X-COLOR:3366CC
X-SHOW-END-TIME:0
END:VEVENT
BEGIN:VEVENT
DTSTART;TZID=America/New_York:20240625T160000
DTEND;TZID=America/New_York:20240625T200000
UID:90558AC5-6B38-4B3D-B3CC-0257C05C82DE
SUMMARY:Board of Health Meeting
CREATED:20240625T132529Z
DTSTAMP:20240625T132529Z
URL:https://wclnj.com/resident/calendar/board-of-health-meeting-7
DESCRIPTION:06-25-2024 Board of Health Agenda\NZoom link: https://us02web.zoom.us/j/88326923232?pwd=7lgbiblDDNpaa8tlbZvV26WYK6a8VV.1
X-ALT-DESC;FMTTYPE=text/html:<p><a class="doclink-insert" href="index.php?option=com_docman&amp;view=document&amp;alias=941-06-25-2024-board-of-health-agenda&amp;category_slug=2024-agendas-board-of-health&amp;Itemid=992" target="_blank">06-25-2024 Board of Health Agenda<br /><br /></a></p><p>Zoom link:&nbsp;<a href="https://us02web.zoom.us/j/88326923232?pwd=7lgbiblDDNpaa8tlbZvV26WYK6a8VV.1">https://us02web.zoom.us/j/88326923232?pwd=7lgbiblDDNpaa8tlbZvV26WYK6a8VV.1</a></p>
LAST-MODIFIED:20240625T132622Z
SEQUENCE:53
X-ACCESS:1
X-HITS:126
X-COLOR:3366CC
X-SHOW-END-TIME:0
END:VEVENT
BEGIN:VEVENT
DTSTART;TZID=America/New_York:20240910T160000
DTEND;TZID=America/New_York:20240910T233000
UID:53D1CC50-CAAE-4C2B-99BC-33F3C1675685
SUMMARY:Board of Health Meeting
CREATED:20240905T183927Z
DTSTAMP:20240905T183927Z
URL:https://wclnj.com/resident/calendar/board-of-health-meeting-8
DESCRIPTION:09-10-2024 Board of Health Agenda
X-ALT-DESC;FMTTYPE=text/html:<p><a class="doclink-insert" href="index.php?option=com_docman&amp;view=document&amp;alias=964-09-10-2024-board-of-health-agenda&amp;category_slug=2024-agendas-board-of-health&amp;Itemid=992" target="_blank">09-10-2024 Board of Health Agenda</a></p>
LAST-MODIFIED:20240905T183927Z
SEQUENCE:0
X-ACCESS:1
X-HITS:201
X-COLOR:3366CC
X-SHOW-END-TIME:0
END:VEVENT
BEGIN:VEVENT
DTSTART;TZID=America/New_York:20250121T160000
DTEND;TZID=America/New_York:20250121T180000
UID:F7856DFD-AD16-4276-9297-1ACDCE86F8FB
SUMMARY:Board of Health Reorganization Meeting
CREATED:20250116T181659Z
DTSTAMP:20250116T181659Z
URL:https://wclnj.com/resident/calendar/board-of-health-reorganization-meeting
DESCRIPTION:01-21-2025 Board of Health Reorganization Agenda
X-ALT-DESC;FMTTYPE=text/html:<p><a class="doclink-insert" href="index.php?option=com_docman&amp;view=document&amp;alias=1002-01-21-2025-board-of-health-reorganization-agenda&amp;category_slug=2025-agendas-board-of-health&amp;Itemid=992" target="_blank">01-21-2025 Board of Health Reorganization Agenda</a></p>
LAST-MODIFIED:20250116T181659Z
SEQUENCE:0
X-ACCESS:1
X-HITS:714
X-COLOR:3366CC
X-SHOW-END-TIME:0
END:VEVENT
BEGIN:VEVENT
DTSTART;TZID=America/New_York:20250603T163000
DTEND;TZID=America/New_York:20250603T180000
UID:9853A754-DD77-4646-9F4A-D3CE4B88A08E
SUMMARY:Board of Health Meeting
CREATED:20250602T165759Z
DTSTAMP:20250602T165759Z
URL:https://wclnj.com/resident/calendar/board-of-health-meeting-9
DESCRIPTION:06-03-2025 Board of Health Agenda\NZoom link: https://us02web.zoom.us/j/83335061263?pwd=8rMJljE7bB7A8aK1OhCmMBnspTbi0t.1\N 
X-ALT-DESC;FMTTYPE=text/html:<p><a class="doclink-insert" href="index.php?option=com_docman&amp;view=document&amp;alias=1060-06-03-2025-board-of-health-agenda&amp;category_slug=2025-agendas-board-of-health&amp;Itemid=992" target="_blank">06-03-2025 Board of Health Agenda</a></p><p>Zoom link:&nbsp;<a href="https://us02web.zoom.us/j/83335061263?pwd=8rMJljE7bB7A8aK1OhCmMBnspTbi0t.1" target="_blank" rel="noopener">https://us02web.zoom.us/j/83335061263?pwd=8rMJljE7bB7A8aK1OhCmMBnspTbi0t.1</a></p><p>&nbsp;</p>
LAST-MODIFIED:20250602T165815Z
SEQUENCE:16
X-ACCESS:1
X-HITS:267
X-COLOR:3366CC
X-SHOW-END-TIME:0
END:VEVENT
BEGIN:VEVENT
DTSTART;TZID=America/New_York:20250923T163000
DTEND;TZID=America/New_York:20250923T183000
UID:BB87A949-F250-4E49-9382-012A6CBF9A19
SUMMARY:Board of Health Meeting
CREATED:20250923T141842Z
DTSTAMP:20250923T141842Z
URL:https://wclnj.com/resident/calendar/board-of-health-meeting-10
DESCRIPTION:09-23-2025 Board of Health Agenda
X-ALT-DESC;FMTTYPE=text/html:<p><a class="doclink-insert" href="index.php?option=com_docman&amp;view=document&amp;alias=1106-09-23-2025-board-of-health-agenda&amp;category_slug=2025-agendas-board-of-health&amp;Itemid=992" target="_blank">09-23-2025 Board of Health Agenda</a></p>
LAST-MODIFIED:20250923T141842Z
SEQUENCE:0
X-ACCESS:1
X-HITS:100
X-COLOR:3366CC
X-SHOW-END-TIME:0
END:VEVENT
BEGIN:VEVENT
DTSTART;TZID=America/New_York:20260306T163000
DTEND;TZID=America/New_York:20260306T180000
UID:B773BB5C-4838-4895-BF47-A5349B617107
SUMMARY:Board of Health Reorganization Meeting
CREATED:20260306T173311Z
DTSTAMP:20260306T173311Z
URL:https://wclnj.com/resident/calendar/board-of-health-reorganization-meeting-2
DESCRIPTION:03-10-2026 Board of Health Agenda
X-ALT-DESC;FMTTYPE=text/html:<p><a class="doclink-insert" href="index.php?option=com_docman&amp;view=document&amp;alias=1183-03-10-2026-board-of-health-agenda&amp;category_slug=2026-agendas-board-of-health&amp;Itemid=992" target="_blank">03-10-2026 Board of Health Agenda</a></p>
LAST-MODIFIED:20260306T173311Z
SEQUENCE:0
X-ACCESS:1
X-HITS:52
X-COLOR:3366CC
X-SHOW-END-TIME:0
END:VEVENT
END:VCALENDAR